BEGIN:VCALENDAR
VERSION:2.0
PRODID:-//ChamberMaster//Event Calendar 2.0//EN
METHOD:PUBLISH
X-PUBLISHED-TTL:P3D
REFRESH-INTERVAL:P3D
CALSCALE:GREGORIAN
BEGIN:VEVENT
DTSTART:20100628T150000Z
DTEND:20100628T150000Z
X-MICROSOFT-CDO-ALLDAYEVENT:FALSE
SUMMARY:Humane Society of Harlingen PAWS S/N Clinic
DESCRIPTION:Humane Society of Harlingen PAWS S/N Clinic \n        \n        \n    \n    \n        Monday\, June 28 at 10 am \n        \n        \n    \n    \n        1106 Markowsky (Rear)\, Harlingen (956) 425-7647 \n        \n        \n    \n    \n         \n        \n    \n    The Humane Society has opened a low-cost spay\, neuter clinic to help decrease local pet population. Join us as we celebrate this new non-profit business with a ribbon cutting event.
X-ALT-DESC;FMTTYPE=text/html:<html xmlns:o= "urn:schemas-microsoft-com:office:office">\n<head>\n    <link href="http://harlingentxcoc.weblinkconnect.com/CWT/External/WCControls/WCControls.css" type="text/css" rel="Stylesheet" />\n</head>\n<body class="GeneralBody">\n    <p class="MsoNormal" style="MARGIN: 0in 0in 0pt">\n        <strong><span style="FONT-SIZE: 10pt\; COLOR: #000066\; FONT-FAMILY: 'Arial'\,'sans-serif'">Humane Society of Harlingen PAWS S/N Clinic</span></strong><span style="FONT-SIZE: 10pt\; COLOR: #857458\; FONT-FAMILY: 'Arial'\,'sans-serif'"> \n        <o:p></o:p>\n        </span>\n    </p>\n    <p class="MsoNormal" style="MARGIN: 0in 0in 0pt">\n        <strong><span style="FONT-SIZE: 10pt\; COLOR: #857458\; FONT-FAMILY: 'Arial'\,'sans-serif'">Monday\, June 28 at 10 am</span></strong><span style="FONT-SIZE: 10pt\; COLOR: #857458\; FONT-FAMILY: 'Arial'\,'sans-serif'"> \n        <o:p></o:p>\n        </span>\n    </p>\n    <p class="MsoNormal" style="MARGIN: 0in 0in 0pt">\n        <strong><span style="FONT-SIZE: 10pt\; COLOR: #857458\; FONT-FAMILY: 'Arial'\,'sans-serif'">1106 Markowsky (Rear)\, Harlingen (956) 425-7647</span></strong><span style="FONT-SIZE: 10pt\; COLOR: #857458\; FONT-FAMILY: 'Arial'\,'sans-serif'"> \n        <o:p></o:p>\n        </span>\n    </p>\n    <p class="MsoNormal" style="MARGIN: 0in 0in 0pt">\n        <span style="FONT-SIZE: 10pt\; COLOR: #857458\; FONT-FAMILY: 'Arial'\,'sans-serif'">&nbsp\;<o:p></o:p>\n        </span>\n    </p>\n    <span style="FONT-SIZE: 10pt\; COLOR: #857458\; FONT-FAMILY: 'Arial'\,'sans-serif'\; mso-fareast-font-family: 'Times New Roman'\; mso-ansi-language: EN-US\; mso-fareast-language: EN-US\; mso-bidi-language: AR-SA">The Humane Society has opened a low-cost spay\, neuter clinic to help decrease local pet population. Join us as we celebrate this new non-profit business with a ribbon cutting event.&nbsp\;</span> \n</body>\n</html>\n
LOCATION:
UID:e.1828.2582
SEQUENCE:3
DTSTAMP:20260422T032423Z
URL:https://business.harlingen.com/events/details/humane-society-of-harlingen-paws-s-n-clinic-06-28-2010-2582
END:VEVENT

END:VCALENDAR
