BEGIN:VCALENDAR
VERSION:2.0
PRODID:-//ChamberMaster//Event Calendar 2.0//EN
METHOD:PUBLISH
X-PUBLISHED-TTL:P3D
REFRESH-INTERVAL:P3D
CALSCALE:GREGORIAN
BEGIN:VEVENT
DTSTART;VALUE=DATE:20110601
DTEND;VALUE=DATE:20110701
TRANSP:TRANSPARENT
X-MICROSOFT-CDO-ALLDAYEVENT:TRUE
SUMMARY:Hurricane Beulah Exhibit
DESCRIPTION:Hurricane Beulah Exhibit \nPhotography exhibit chronicling the efforts of health professionals and local volunteers in Starr County after Hurricane Beulah \n\nDate and Time: \n\nExhibit is open to the public from June 1 – June 30\, 2011 \n\nRamirez Library regular hours\nMonday-Thursday	7:30 am - 11:00 pm\nFriday	7:30 am - 5:00 pm\nSaturday	10:00 am - 6:00 pm\nSunday	1:00 pm - 11:00 pm\n\nDirections: \n\nMario E. Ramirez\, M.D. Library \nRegional Academic Health Center (RAHC)  \n2102 Treasure Hills Blvd. \nHarlingen\, Texas 78550\n(956) 365-8850 \nContact: Greysi Reyna (Reynag@uthscsa.edu) \n	\nDescription: \nHurricane Beulah is still recognized as one of the most significant storms to make landfall in Texas. On September 21\, 1967 the storm moved into the mouth of the Rio Grande\, and inundated South Texas with heavy rainfall.  Hurricane Beulah caused extensive flooding on both sides of the U.S.-Mexico \n\nborder.  To escape the rising floodwaters\, over 14\,000 refugees from Camargo\, Tamaulipas crossed the border into the small town of Roma\, Texas in desperate need of food\, shelter\, and medical care. \n\nIt was in Roma that Dr. Mario E. Ramirez\, the only physician in town and Starr County's Public Health Service Director\, rose to action in the face of a crisis. For several weeks\, Dr. Ramirez along with volunteers from the local community\, UT Medical Branch in Galveston\, Santa Rosa Hospital in San Antonio as well as the U.S. Army worked to help the hurricane victims.\n\nIt was during this crisis that a local photographer followed Dr. Ramirez and captured the heroic efforts of Dr. Ramirez and countless volunteers.  The photographs were taken by George Tuley\, a Rio Grande City teacher\, who would later go on to a 39-year career as a photojournalist at the Corpus Christi Caller-Times.  Mr. Tuley gave these historical photos to Dr. Ramirez who in turn provided these to the Ramirez Library for the community to view.  \n\nThe photographs portray the use of makeshift medical equi
X-ALT-DESC;FMTTYPE=text/html:Hurricane Beulah Exhibit \nPhotography exhibit chronicling the efforts of health professionals and local volunteers in Starr County after Hurricane Beulah \n\nDate and Time: \n\nExhibit is open to the public from June 1 – June 30\, 2011 \n\nRamirez Library regular hours\nMonday-Thursday	7:30 am - 11:00 pm\nFriday	7:30 am - 5:00 pm\nSaturday	10:00 am - 6:00 pm\nSunday	1:00 pm - 11:00 pm\n\nDirections: \n\nMario E. Ramirez\, M.D. Library \nRegional Academic Health Center (RAHC)  \n2102 Treasure Hills Blvd. \nHarlingen\, Texas 78550\n(956) 365-8850 \nContact: Greysi Reyna (Reynag@uthscsa.edu) \n	\nDescription: \nHurricane Beulah is still recognized as one of the most significant storms to make landfall in Texas. On September 21\, 1967 the storm moved into the mouth of the Rio Grande\, and inundated South Texas with heavy rainfall.  Hurricane Beulah caused extensive flooding on both sides of the U.S.-Mexico \n\nborder.  To escape the rising floodwaters\, over 14\,000 refugees from Camargo\, Tamaulipas crossed the border into the small town of Roma\, Texas in desperate need of food\, shelter\, and medical care. \n\nIt was in Roma that Dr. Mario E. Ramirez\, the only physician in town and Starr County's Public Health Service Director\, rose to action in the face of a crisis. For several weeks\, Dr. Ramirez along with volunteers from the local community\, UT Medical Branch in Galveston\, Santa Rosa Hospital in San Antonio as well as the U.S. Army worked to help the hurricane victims.\n\nIt was during this crisis that a local photographer followed Dr. Ramirez and captured the heroic efforts of Dr. Ramirez and countless volunteers.  The photographs were taken by George Tuley\, a Rio Grande City teacher\, who would later go on to a 39-year career as a photojournalist at the Corpus Christi Caller-Times.  Mr. Tuley gave these historical photos to Dr. Ramirez who in turn provided these to the Ramirez Library for the community to view.  \n\nThe photographs portray the use of makeshift medical equi
LOCATION:
UID:e.1828.3077
SEQUENCE:3
DTSTAMP:20260421T094011Z
URL:https://business.harlingen.com/events/details/hurricane-beulah-exhibit-06-01-2011-3077
END:VEVENT

END:VCALENDAR
