BEGIN:VCALENDAR
VERSION:2.0
PRODID:-//ChamberMaster//Event Calendar 2.0//EN
METHOD:PUBLISH
X-PUBLISHED-TTL:P3D
REFRESH-INTERVAL:P3D
CALSCALE:GREGORIAN
BEGIN:VEVENT
DTSTART:20100608T230000Z
DTEND:20100609T003000Z
X-MICROSOFT-CDO-ALLDAYEVENT:FALSE
SUMMARY:HURRICANE IMPACT SEMINAR & DISCUSSION FOR BUILDING OFFICIALS\, CONTRACTORS\, INSPECTORS & MORE!
DESCRIPTION:HURRICANE IMPACT SEMINAR & DISCUSSION for All Interested and Concerned Building Professionals Arch Aluminum & Glass has scheduled an ''Impact Seminar'' for Tuesday\, June 8\, 2010.  Topics: Building Codes\, Aluminum Framing Systems\, Laminated Glass\, Installation\, and Inspections. IMPORTANT UP-TO-DATE INFORMATION YOU NEED!  Sandwiches and soft drinks will be served!  Discussion & Questions.  Come prepared to get answers to your questions concerning Impact Systems\, NOA's\, glass\, aluminum\, and installation. All are invited – Building Officials\, Inspectors\, General Contractors\, Architects\, Glazing Contractors\, & Installers.  For more information send email to dshaw@archaluminum.net
X-ALT-DESC;FMTTYPE=text/html:HURRICANE IMPACT SEMINAR & DISCUSSION for All Interested and Concerned Building Professionals Arch Aluminum & Glass has scheduled an ''Impact Seminar'' for Tuesday\, June 8\, 2010.  Topics: Building Codes\, Aluminum Framing Systems\, Laminated Glass\, Installation\, and Inspections. IMPORTANT UP-TO-DATE INFORMATION YOU NEED!  Sandwiches and soft drinks will be served!  Discussion & Questions.  Come prepared to get answers to your questions concerning Impact Systems\, NOA's\, glass\, aluminum\, and installation. All are invited – Building Officials\, Inspectors\, General Contractors\, Architects\, Glazing Contractors\, & Installers.  For more information send email to dshaw@archaluminum.net\n
LOCATION:
UID:e.1828.2545
SEQUENCE:3
DTSTAMP:20260422T032122Z
URL:https://business.harlingen.com/events/details/hurricane-impact-seminar-discussion-for-building-officials-contractors-inspectors-more-06-08-2010-2545
END:VEVENT

END:VCALENDAR
