BEGIN:VCALENDAR
VERSION:2.0
PRODID:-//ChamberMaster//Event Calendar 2.0//EN
METHOD:PUBLISH
X-PUBLISHED-TTL:P3D
REFRESH-INTERVAL:P3D
CALSCALE:GREGORIAN
BEGIN:VEVENT
DTSTART:20110618T170000Z
DTEND:20110618T200000Z
X-MICROSOFT-CDO-ALLDAYEVENT:FALSE
SUMMARY:Hurricane Preparedness Expo/ Rio Grande Valley Premium Outlets
DESCRIPTION:Join representatives from The National Weather Service\, The Hidalgo County Emergency Management\, The RGV Food Bank\, The Salvation Army\, and The American Red Cross for a Hurricane Preparedness Expo. Kids Supercenter will be handing out free balloons for the kids and you can register Dad to win a Father's Day Gift Package.
X-ALT-DESC;FMTTYPE=text/html:Join representatives from The National Weather Service\, The Hidalgo County Emergency Management\, The RGV Food Bank\, The Salvation Army\, and The American Red Cross for a Hurricane Preparedness Expo. Kids Supercenter will be handing out free balloons for the kids and you can register Dad to win a Father's Day Gift Package.  \n\n
LOCATION:
UID:e.1828.3081
SEQUENCE:3
DTSTAMP:20260421T082143Z
URL:https://business.harlingen.com/events/details/hurricane-preparedness-expo-rio-grande-valley-premium-outlets-06-18-2011-3081
END:VEVENT

END:VCALENDAR
