BEGIN:VCALENDAR
VERSION:2.0
PRODID:-//ChamberMaster//Event Calendar 2.0//EN
METHOD:PUBLISH
X-PUBLISHED-TTL:P3D
REFRESH-INTERVAL:P3D
CALSCALE:GREGORIAN
BEGIN:VEVENT
DTSTART:20110127T233000Z
DTEND:20110128T010000Z
X-MICROSOFT-CDO-ALLDAYEVENT:FALSE
SUMMARY:HYPE Business Mixer
DESCRIPTION:Who are Young Professionals?\nHYPE is mainly comprised of the 21-45 year-old population\, but is open to any "young thinking" or "young-at-heart" professional. \nHYPE is a collection of entrepreneurs\, non-profit workers\, attorneys\, engineers\, artists\, & just about any profession in the Harlingen Area.\n\nMark your calendars!\nHYPE Business Mixer \nJanuary 27 5:30 pm - 7 pm \nOxygen Bar- 610 Maco Dr. Harlingen\n\n A casual event that offers an opportunity to network with other young professionals.Bring your business cards\, bring a friend and plan to make new business connections! For more information contact Gabe Puente 956-216-7505.
X-ALT-DESC;FMTTYPE=text/html:Who are Young Professionals?\nHYPE is mainly comprised of the 21-45 year-old population\, but is open to any "young thinking" or "young-at-heart" professional. \nHYPE is a collection of entrepreneurs\, non-profit workers\, attorneys\, engineers\, artists\, & just about any profession in the Harlingen Area.\n\nMark your calendars!\nHYPE Business Mixer \nJanuary 27 5:30 pm - 7 pm \nOxygen Bar- 610 Maco Dr. Harlingen\n\n A casual event that offers an opportunity to network with other young professionals.Bring your business cards\, bring a friend and plan to make new business connections! For more information contact Gabe Puente 956-216-7505.\n \n
LOCATION:
UID:e.1828.2893
SEQUENCE:3
DTSTAMP:20260421T154514Z
URL:https://business.harlingen.com/events/details/hype-business-mixer-01-27-2011-2893
END:VEVENT

END:VCALENDAR
