BEGIN:VCALENDAR
VERSION:2.0
PRODID:-//ChamberMaster//Event Calendar 2.0//EN
METHOD:PUBLISH
X-PUBLISHED-TTL:P3D
REFRESH-INTERVAL:P3D
CALSCALE:GREGORIAN
BEGIN:VEVENT
DTSTART:20100923T230000Z
DTEND:20100924T020000Z
X-MICROSOFT-CDO-ALLDAYEVENT:FALSE
SUMMARY:HYPE & rgVision Fall Social Mixer
DESCRIPTION:HYPE and rgVision magazine are partnering on this month's social mixer\, a casual event that offers an opportunity to network with other young professionals.  Honored guests will be State Representative Eddie Lucio\, III and Bobby Muniz of Muniz Pharmacy.  \n \nOne complimentary drink will be provided with each $10 donation made to Habitat for Humanity.  Bring your business cards\, bring a friend and plan to make new business connections.  For more information\, please call the Harlingen Area Chamber of Commerce at 956-423-5440.
X-ALT-DESC;FMTTYPE=text/html:HYPE and rgVision magazine are partnering on this month's social mixer\, a casual event that offers an opportunity to network with other young professionals.  Honored guests will be State Representative Eddie Lucio\, III and Bobby Muniz of Muniz Pharmacy.  \n \nOne complimentary drink will be provided with each $10 donation made to Habitat for Humanity.  Bring your business cards\, bring a friend and plan to make new business connections.  For more information\, please call the Harlingen Area Chamber of Commerce at 956-423-5440.\n
LOCATION:
UID:e.1828.2762
SEQUENCE:3
DTSTAMP:20260422T000821Z
URL:https://business.harlingen.com/events/details/hype-rgvision-fall-social-mixer-09-23-2010-2762
END:VEVENT

END:VCALENDAR
