BEGIN:VCALENDAR
VERSION:2.0
PRODID:-//ChamberMaster//Event Calendar 2.0//EN
METHOD:PUBLISH
X-PUBLISHED-TTL:P3D
REFRESH-INTERVAL:P3D
CALSCALE:GREGORIAN
BEGIN:VEVENT
DTSTART:20121025T223000Z
DTEND:20121025T223000Z
X-MICROSOFT-CDO-ALLDAYEVENT:FALSE
SUMMARY:I Cook U Eat Ribbon Cutting
DESCRIPTION:Please join us as we celebrate the opening of our new business!  Refreshments\, appetizers\, and desserts will be served.
X-ALT-DESC;FMTTYPE=text/html:Please join us as we celebrate the opening of our new business!  Refreshments\, appetizers\, and desserts will be served.  \n
LOCATION:
UID:e.1828.4035
SEQUENCE:3
DTSTAMP:20260420T101505Z
URL:https://business.harlingen.com/events/details/i-cook-u-eat-ribbon-cutting-10-25-2012-4035
END:VEVENT

END:VCALENDAR
