BEGIN:VCALENDAR
VERSION:2.0
PRODID:-//ChamberMaster//Event Calendar 2.0//EN
METHOD:PUBLISH
X-PUBLISHED-TTL:P3D
REFRESH-INTERVAL:P3D
CALSCALE:GREGORIAN
BEGIN:VEVENT
DTSTART:20100813T210000Z
DTEND:20100813T220000Z
X-MICROSOFT-CDO-ALLDAYEVENT:FALSE
SUMMARY:IDEA Public Schools 10 Year Anniversary Celebration
DESCRIPTION:Please join IDEA Public Schools as they celebrate their 10 year anniversary in the Rio Grande Valley.  For more information please contact Lindsey Price at 956-377-5814.
X-ALT-DESC;FMTTYPE=text/html:Please join IDEA Public Schools as they celebrate their 10 year anniversary in the Rio Grande Valley.  For more information please contact Lindsey Price at 956-377-5814. 
LOCATION:(Off of Ware Road)
UID:e.1828.2648
SEQUENCE:3
DTSTAMP:20260422T001650Z
URL:https://business.harlingen.com/events/details/idea-public-schools-10-year-anniversary-celebration-08-13-2010-2648
END:VEVENT

END:VCALENDAR
