BEGIN:VCALENDAR
VERSION:2.0
PRODID:-//ChamberMaster//Event Calendar 2.0//EN
METHOD:PUBLISH
X-PUBLISHED-TTL:P3D
REFRESH-INTERVAL:P3D
CALSCALE:GREGORIAN
BEGIN:VEVENT
DTSTART:20101021T233000Z
DTEND:20101021T233000Z
X-MICROSOFT-CDO-ALLDAYEVENT:FALSE
SUMMARY:IDEA Public Schools 2010 Texas Hold ‘Em Tournament
DESCRIPTION:IDEA Public Schools is hosting the 2010 Texas Hold ‘Em Tournament fundraiser which will take place on Thursday\, October 21st at 6:30 p.m. at the Brownsville Museum of Fine Art.  We are seeking sponsors and players.  Both can sign-up online at www.ideapublicschools.org.  VIP registration at 6 pm.  General registration at at 6:30 pm.  Play begins at 7:30 pm.  LOTS OF PRIZES!!!  For more information\, please call 956-373-5814.
X-ALT-DESC;FMTTYPE=text/html:IDEA Public Schools is hosting the 2010 Texas Hold ‘Em Tournament fundraiser which will take place on Thursday\, October 21st at 6:30 p.m. at the Brownsville Museum of Fine Art.  We are seeking sponsors and players.  Both can sign-up online at www.ideapublicschools.org.  VIP registration at 6 pm.  General registration at at 6:30 pm.  Play begins at 7:30 pm.  LOTS OF PRIZES!!!  For more information\, please call 956-373-5814.\n \n
LOCATION:
UID:e.1828.2767
SEQUENCE:3
DTSTAMP:20260421T203638Z
URL:https://business.harlingen.com/events/details/idea-public-schools-2010-texas-hold-em-tournament-10-21-2010-2767
END:VEVENT

END:VCALENDAR
