BEGIN:VCALENDAR
VERSION:2.0
PRODID:-//ChamberMaster//Event Calendar 2.0//EN
METHOD:PUBLISH
X-PUBLISHED-TTL:P3D
REFRESH-INTERVAL:P3D
CALSCALE:GREGORIAN
BEGIN:VEVENT
DTSTART:20210413T170000Z
DTEND:20210413T180000Z
X-MICROSOFT-CDO-ALLDAYEVENT:FALSE
SUMMARY:Imagehouse Media Webinar
DESCRIPTION:The American Advertising Federation-RGV chapter is inviting the public to a webinar\, hosted by Imagehouse Media: "Go BIG and go home! How BIG LOTS has adapted to the changing needs of their consumers since COVID." How does a large national chain remain nimble during an international pandemic? They keep their customer's needs at the center of everything they do while building trust and delivering on their promise. Join Senior Vice President of Marketing for BIG Lots!\, Joice Wirkus\, for a discussion on what BIG Lots! did to be successful during COVID.
X-ALT-DESC;FMTTYPE=text/html:The American Advertising Federation-RGV chapter is inviting the public to a webinar\, hosted by Imagehouse Media: &ldquo\;Go BIG and go home! How BIG LOTS has adapted to the changing needs of their consumers since COVID.&rdquo\; How does a large national chain remain nimble during an international pandemic? They keep their customer&rsquo\;s needs at the center of everything they do while building trust and delivering on their promise. Join Senior Vice President of Marketing for BIG Lots!\, Joice Wirkus\, for a discussion on what BIG Lots! did to be successful during COVID.
LOCATION:Register online at: aafrgv.com
UID:e.1828.16300
SEQUENCE:3
DTSTAMP:20260420T003424Z
URL:https://business.harlingen.com/events/details/imagehouse-media-webinar-16300
END:VEVENT

END:VCALENDAR
