BEGIN:VCALENDAR
VERSION:2.0
PRODID:-//ChamberMaster//Event Calendar 2.0//EN
METHOD:PUBLISH
X-PUBLISHED-TTL:P3D
REFRESH-INTERVAL:P3D
CALSCALE:GREGORIAN
BEGIN:VEVENT
DTSTART:20090913T233000Z
DTEND:20090914T013000Z
X-MICROSOFT-CDO-ALLDAYEVENT:FALSE
SUMMARY:Independence Celebration and the 99th Anniversary of the Mexican Revolution
DESCRIPTION:The Mexican Consulate Office in Brownsville\, TX has the honor of inviting you to the traditional Mexican Independence Celebration and the 99th Anniversary of the Mexican Revolution on Sunday\, September 13\, 2009\nat Gutierrez Park in La Placita District in Harlingen.  Guests Artists will be Estudiantina Tuna Del Distrito Universitario de Guanajuato Grupo Americanto & Gloria Canales Mexican Folklore School of Dance.  Brought to you by The Alliance for Hispanic Arts & Culture.  Please join us!
X-ALT-DESC;FMTTYPE=text/html:The Mexican Consulate Office in Brownsville\, TX has the honor of inviting you to the traditional Mexican Independence Celebration and the 99th Anniversary of the Mexican Revolution on Sunday\, September 13\, 2009\nat Gutierrez Park in La Placita District in Harlingen.  Guests Artists will be Estudiantina Tuna Del Distrito Universitario de Guanajuato Grupo Americanto & Gloria Canales Mexican Folklore School of Dance.  Brought to you by The Alliance for Hispanic Arts & Culture.  Please join us!\n
LOCATION:
UID:e.1828.2070
SEQUENCE:3
DTSTAMP:20260422T113511Z
URL:https://business.harlingen.com/events/details/independence-celebration-and-the-99th-anniversary-of-the-mexican-revolution-09-13-2009-2070
END:VEVENT

END:VCALENDAR
