BEGIN:VCALENDAR
VERSION:2.0
PRODID:-//ChamberMaster//Event Calendar 2.0//EN
METHOD:PUBLISH
X-PUBLISHED-TTL:P3D
REFRESH-INTERVAL:P3D
CALSCALE:GREGORIAN
BEGIN:VEVENT
DTSTART:20100720T190000Z
DTEND:20100720T210000Z
X-MICROSOFT-CDO-ALLDAYEVENT:FALSE
SUMMARY:Industrial and Business Safety
DESCRIPTION:Southwest Minority Supplier Development Council and it's collaborative partner Texas Manufacturing Assistance Center present Sylvia M. Zubizar-Garcia. She will be presenting Industrial and Business Safety. How important is Safety at your workplace? Making your workplace safety for your employees. Sylvia has over 15 yrs. experience and is an OSHA Accredited OUtrach Instructor. She will cover regulatory requirements covering safety in the workplace\,how to reduce the risk of accidents\, OSHA regulations\, Safety\, health and on-site hazards\, and much more.\nCost: $15.00 pp refreshments will be provided
X-ALT-DESC;FMTTYPE=text/html:Southwest Minority Supplier Development Council and it's collaborative partner Texas Manufacturing Assistance Center present Sylvia M. Zubizar-Garcia. She will be presenting Industrial and Business Safety. How important is Safety at your workplace? Making your workplace safety for your employees. Sylvia has over 15 yrs. experience and is an OSHA Accredited OUtrach Instructor. She will cover regulatory requirements covering safety in the workplace\,how to reduce the risk of accidents\, OSHA regulations\, Safety\, health and on-site hazards\, and much more.\nCost: $15.00 pp refreshments will be provided
LOCATION:105 East Jackson parking on back of blding. Use 1st street or 2nd street to reach parking lot behind blding. Lots of parking\, enter thur the glass door of white blding. As you enter hallway\, meeting room is on your right.
UID:e.1828.2597
SEQUENCE:3
DTSTAMP:20260422T015435Z
URL:https://business.harlingen.com/events/details/industrial-and-business-safety-07-20-2010-2597
END:VEVENT

END:VCALENDAR
