BEGIN:VCALENDAR
VERSION:2.0
PRODID:-//ChamberMaster//Event Calendar 2.0//EN
METHOD:PUBLISH
X-PUBLISHED-TTL:P3D
REFRESH-INTERVAL:P3D
CALSCALE:GREGORIAN
BEGIN:VEVENT
DTSTART:20100421T230000Z
DTEND:20100421T230000Z
X-MICROSOFT-CDO-ALLDAYEVENT:FALSE
SUMMARY:"Inner Child" Art Show Reception
DESCRIPTION:The "Inner Child" art exhibit features the works of more than 15 South Texas artists in honor of National Child Abuse Prevention & Awareness Month.  The public is invited to attend a reception on Wednesday\, April 21st at 6 pm.  The exhibit will be on display through April 30th.  Proceeds will benefit the Family Crisis Center.  For more information\, please call 956-425-4030.
X-ALT-DESC;FMTTYPE=text/html:The "Inner Child" art exhibit features the works of more than 15 South Texas artists in honor of National Child Abuse Prevention & Awareness Month.  The public is invited to attend a reception on Wednesday\, April 21st at 6 pm.  The exhibit will be on display through April 30th.  Proceeds will benefit the Family Crisis Center.  For more information\, please call 956-425-4030.
LOCATION:
UID:e.1828.2497
SEQUENCE:3
DTSTAMP:20260422T080726Z
URL:https://business.harlingen.com/events/details/inner-child-art-show-reception-04-21-2010-2497
END:VEVENT

END:VCALENDAR
