BEGIN:VCALENDAR
VERSION:2.0
PRODID:-//ChamberMaster//Event Calendar 2.0//EN
METHOD:PUBLISH
X-PUBLISHED-TTL:P3D
REFRESH-INTERVAL:P3D
CALSCALE:GREGORIAN
BEGIN:VEVENT
DTSTART:20100421T230000Z
DTEND:20100422T020000Z
X-MICROSOFT-CDO-ALLDAYEVENT:FALSE
SUMMARY:Inner Child Art Show & Silent Auction
DESCRIPTION:There will be a Juried Community Art Exhibition and a Silent Auction.  The goal of the Inner Child Art Show and Silent Auction is to raise awareness for National Child Abuse Awareness & Prevention Month.   The proceeds from the show will be donated to The Family Crisis Center.
X-ALT-DESC;FMTTYPE=text/html:There will be a Juried Community Art Exhibition and a Silent Auction.  The goal of the Inner Child Art Show and Silent Auction is to raise awareness for National Child Abuse Awareness & Prevention Month.   The proceeds from the show will be donated to The Family Crisis Center.
LOCATION:Located on the 100 block of Jackson Street in the Historic Downtown District.
UID:e.1828.2421
SEQUENCE:3
DTSTAMP:20260422T062511Z
URL:https://business.harlingen.com/events/details/inner-child-art-show-silent-auction-04-21-2010-2421
END:VEVENT

END:VCALENDAR
