BEGIN:VCALENDAR
VERSION:2.0
PRODID:-//ChamberMaster//Event Calendar 2.0//EN
METHOD:PUBLISH
X-PUBLISHED-TTL:P3D
REFRESH-INTERVAL:P3D
CALSCALE:GREGORIAN
BEGIN:VEVENT
DTSTART:20100222T230000Z
DTEND:20100222T230000Z
X-MICROSOFT-CDO-ALLDAYEVENT:FALSE
SUMMARY:International Festival 2010 Monday Feb 22
DESCRIPTION:4 bands\, dancing\, Food - A full evening of entertainment and dinner for only $10 \nFeb 22nd\, at FunNSun RV Resort in San Benito. The Dance Capital of Texas
X-ALT-DESC;FMTTYPE=text/html:4 bands\, dancing\, Food - A full evening of entertainment and dinner for only $10 \nFeb 22nd\, at FunNSun RV Resort in San Benito. The Dance Capital of Texas
LOCATION:FunNSun RV Resort off 509 south Paso Real Exit\, San Benito
UID:e.1828.2222
SEQUENCE:3
DTSTAMP:20260422T095330Z
URL:https://business.harlingen.com/events/details/international-festival-2010-monday-feb-22-02-22-2010-2222
END:VEVENT

END:VCALENDAR
