BEGIN:VCALENDAR
VERSION:2.0
PRODID:-//ChamberMaster//Event Calendar 2.0//EN
METHOD:PUBLISH
X-PUBLISHED-TTL:P3D
REFRESH-INTERVAL:P3D
CALSCALE:GREGORIAN
BEGIN:VEVENT
DTSTART:20120908T150000Z
DTEND:20120908T150000Z
X-MICROSOFT-CDO-ALLDAYEVENT:FALSE
SUMMARY:Introductory Training Parade & Graduation
DESCRIPTION:Please join MMA for their Graduation Parade. Bleacher seating is limited. Lawn chairs are welcome.
X-ALT-DESC;FMTTYPE=text/html:Please join MMA for their Graduation Parade. Bleacher seating is limited. Lawn chairs are welcome.
LOCATION:
UID:e.1828.3951
SEQUENCE:3
DTSTAMP:20260420T085217Z
URL:https://business.harlingen.com/events/details/introductory-training-parade-graduation-09-08-2012-3951
END:VEVENT

END:VCALENDAR
