BEGIN:VCALENDAR
VERSION:2.0
PRODID:-//ChamberMaster//Event Calendar 2.0//EN
METHOD:PUBLISH
X-PUBLISHED-TTL:P3D
REFRESH-INTERVAL:P3D
CALSCALE:GREGORIAN
BEGIN:VEVENT
DTSTART:20101202T000000Z
DTEND:20101202T013000Z
X-MICROSOFT-CDO-ALLDAYEVENT:FALSE
SUMMARY:Invitation to a presentation on establishing and operating a USGBC Branch
DESCRIPTION:You are invited to a join us for a presentation on what is involved in establishing and operating a USGBC Branch.  The meeting will be held on Wedensday\, December 1 from 6:00 pm to 7:30 pm at the TSTC Cultural Art Center.  Laura Bennett\, Chair of the Coastal Bend Branch based in Corpus Christi\, will help clarify the work and obiligations involved in creating and running a branch.
X-ALT-DESC;FMTTYPE=text/html:You are invited to a join us for a presentation on what is involved in establishing and operating a USGBC Branch.  The meeting will be held on Wedensday\, December 1 from 6:00 pm to 7:30 pm at the TSTC Cultural Art Center.  Laura Bennett\, Chair of the Coastal Bend Branch based in Corpus Christi\, will help clarify the work and obiligations involved in creating and running a branch.
LOCATION:
UID:e.1828.2857
SEQUENCE:3
DTSTAMP:20260421T171906Z
URL:https://business.harlingen.com/events/details/invitation-to-a-presentation-on-establishing-and-operating-a-usgbc-branch-12-01-2010-2857
END:VEVENT

END:VCALENDAR
