BEGIN:VCALENDAR
VERSION:2.0
PRODID:-//ChamberMaster//Event Calendar 2.0//EN
METHOD:PUBLISH
X-PUBLISHED-TTL:P3D
REFRESH-INTERVAL:P3D
CALSCALE:GREGORIAN
BEGIN:VEVENT
DTSTART:20100219T220000Z
DTEND:20100219T220000Z
X-MICROSOFT-CDO-ALLDAYEVENT:FALSE
SUMMARY:IWO JIMA Anniversary Parade
DESCRIPTION:Marine Military Academy Corps of Cadets presents Introductory Training Graduation Parade on February 6\, 2010 at 10 a.m.  The Academy welcomes 2nd semester plebes into the MMA's Corps of Cadets following 4 weeks of introductory training.  The Public is invited.  Bleacher seating limited.  Lawn chairs are welcome. Parades are held contingent upon weather conditions\, no reschedules. For more information please contact Debbie Wieland\,\nMMA Public Affairs Officer at (956) 421-9235.
X-ALT-DESC;FMTTYPE=text/html:Marine Military Academy Corps of Cadets presents Introductory Training Graduation Parade on February 6\, 2010 at 10 a.m.  The Academy welcomes 2nd semester plebes into the MMA's Corps of Cadets following 4 weeks of introductory training.  The Public is invited.  Bleacher seating limited.  Lawn chairs are welcome. Parades are held contingent upon weather conditions\, no reschedules. For more information please contact Debbie Wieland\,\nMMA Public Affairs Officer at (956) 421-9235.\n
LOCATION:
UID:e.1828.2364
SEQUENCE:3
DTSTAMP:20260422T093733Z
URL:https://business.harlingen.com/events/details/iwo-jima-anniversary-parade-02-19-2010-2364
END:VEVENT

END:VCALENDAR
