BEGIN:VCALENDAR
VERSION:2.0
PRODID:-//ChamberMaster//Event Calendar 2.0//EN
METHOD:PUBLISH
X-PUBLISHED-TTL:P3D
REFRESH-INTERVAL:P3D
CALSCALE:GREGORIAN
BEGIN:VEVENT
DTSTART:20120218T160000Z
DTEND:20120218T160000Z
X-MICROSOFT-CDO-ALLDAYEVENT:FALSE
SUMMARY:Iwo Jima Parade
DESCRIPTION:MMA to host Iwo Jima Parade\, 67th Anniversary of the Battle of Iwo Jima. Open to the public\, this event is a patriotic tribute to those who have paid the ultimate price protecting our nation's freedoms. There will be special reserved seating for all World War II veterans in the parade stand\, directly in front of the Iwo Jima Memorial. During the parade\, all veterans will be recognized and asked to join the MMA superintendent for the ceremonial pass in review. \n\nFor more information on the Iwo Jima Parade\, call 956-421-9235\, or e-mail at atkinson@mma-tx.org. For information on the Iwo Jima Museum & Gift Shop\, contact Gloria Boling at 956-421-9234 or e-mail visitorcenter@mma-tx.org. Bleacher seating is limited\, lawn chairs are welcome.
X-ALT-DESC;FMTTYPE=text/html:MMA to host Iwo Jima Parade\, 67th Anniversary of the Battle of Iwo Jima. Open to the public\, this event is a patriotic tribute to those who have paid the ultimate price protecting our nation's freedoms. There will be special reserved seating for all World War II veterans in the parade stand\, directly in front of the Iwo Jima Memorial. During the parade\, all veterans will be recognized and asked to join the MMA superintendent for the ceremonial pass in review. \n\nFor more information on the Iwo Jima Parade\, call 956-421-9235\, or e-mail at atkinson@mma-tx.org. For information on the Iwo Jima Museum & Gift Shop\, contact Gloria Boling at 956-421-9234 or e-mail visitorcenter@mma-tx.org. Bleacher seating is limited\, lawn chairs are welcome.
LOCATION:MMA Parade Grounds
UID:e.1828.3426
SEQUENCE:3
DTSTAMP:20260420T211545Z
URL:https://business.harlingen.com/events/details/iwo-jima-parade-02-18-2012-3426
END:VEVENT

END:VCALENDAR
