BEGIN:VCALENDAR
VERSION:2.0
PRODID:-//ChamberMaster//Event Calendar 2.0//EN
METHOD:PUBLISH
X-PUBLISHED-TTL:P3D
REFRESH-INTERVAL:P3D
CALSCALE:GREGORIAN
BEGIN:VEVENT
DTSTART:20101027T210000Z
DTEND:20101028T010000Z
X-MICROSOFT-CDO-ALLDAYEVENT:FALSE
SUMMARY:Jackson 1-2-3 Fall Fling
DESCRIPTION:Enjoy art\, shopping\, food & beverages\, music\, door prizes\, and special discounts as shops and cafes on Downtown Jackson celebrate the season with a special Fall Fling!  Enjoy "after work" shopping in more than a dozen stores this one night only!  Free and open to the public -- bring your friends!  For more info\, call That Lime Green Store\, 425-7979.
X-ALT-DESC;FMTTYPE=text/html:Enjoy art\, shopping\, food & beverages\, music\, door prizes\, and special discounts as shops and cafes on Downtown Jackson celebrate the season with a special Fall Fling!  Enjoy "after work" shopping in more than a dozen stores this one night only!  Free and open to the public -- bring your friends!  For more info\, call That Lime Green Store\, 425-7979.\n\n
LOCATION:
UID:e.1828.2821
SEQUENCE:3
DTSTAMP:20260421T222021Z
URL:https://business.harlingen.com/events/details/jackson-1-2-3-fall-fling-10-27-2010-2821
END:VEVENT

END:VCALENDAR
