BEGIN:VCALENDAR
VERSION:2.0
PRODID:-//ChamberMaster//Event Calendar 2.0//EN
METHOD:PUBLISH
X-PUBLISHED-TTL:P3D
REFRESH-INTERVAL:P3D
CALSCALE:GREGORIAN
BEGIN:VEVENT
DTSTART:20100206T150000Z
DTEND:20100206T220000Z
X-MICROSOFT-CDO-ALLDAYEVENT:FALSE
SUMMARY:Jackson Street Market Days
DESCRIPTION:Shop for treasures at an old-fashioned\, open-air street fair with antiques and collectibles\, crafts\, produce\, and food vendors.  Music too!  Free and open to the public.  Sponsored by Downtown Harlingen merchants.  For more info\, or to reserve a booth\, call June Ramirez after 10 am at (956) 423-4041.
X-ALT-DESC;FMTTYPE=text/html:Shop for treasures at an old-fashioned\, open-air street fair with antiques and collectibles\, crafts\, produce\, and food vendors.  Music too!  Free and open to the public.  Sponsored by Downtown Harlingen merchants.  For more info\, or to reserve a booth\, call June Ramirez after 10 am at (956) 423-4041.\n
LOCATION:Between 4th and "A" Street
UID:e.1828.2358
SEQUENCE:3
DTSTAMP:20260422T094718Z
URL:https://business.harlingen.com/events/details/jackson-street-market-days-02-06-2010-2358
END:VEVENT

END:VCALENDAR
