BEGIN:VCALENDAR
VERSION:2.0
PRODID:-//ChamberMaster//Event Calendar 2.0//EN
METHOD:PUBLISH
X-PUBLISHED-TTL:P3D
REFRESH-INTERVAL:P3D
CALSCALE:GREGORIAN
BEGIN:VEVENT
DTSTART:20100306T150000Z
DTEND:20100306T220000Z
X-MICROSOFT-CDO-ALLDAYEVENT:FALSE
SUMMARY:Jackson Street Market Days
DESCRIPTION:Shop for treasures at an old-fashioned\, open-air street fair with antiques and collectibles\, crafts\, produce\, and food vendors.  Live music too!  Free and open to the public.  Sponsored by Downtown Harlingen merchants.  For more info\, or to reserve a booth\, call June Ramirez\, (956) 423-4041.
X-ALT-DESC;FMTTYPE=text/html:Shop for treasures at an old-fashioned\, open-air street fair with antiques and collectibles\, crafts\, produce\, and food vendors.  Live music too!  Free and open to the public.  Sponsored by Downtown Harlingen merchants.  For more info\, or to reserve a booth\, call June Ramirez\, (956) 423-4041.\n
LOCATION:Between 4th and Commerce
UID:e.1828.2424
SEQUENCE:3
DTSTAMP:20260422T080925Z
URL:https://business.harlingen.com/events/details/jackson-street-market-days-03-06-2010-2424
END:VEVENT

END:VCALENDAR
