BEGIN:VCALENDAR
VERSION:2.0
PRODID:-//ChamberMaster//Event Calendar 2.0//EN
METHOD:PUBLISH
X-PUBLISHED-TTL:P3D
REFRESH-INTERVAL:P3D
CALSCALE:GREGORIAN
BEGIN:VEVENT
DTSTART:20100703T140000Z
DTEND:20100703T210000Z
X-MICROSOFT-CDO-ALLDAYEVENT:FALSE
SUMMARY:Jackson Street Market Days
DESCRIPTION:Shop for treasures at an old-fashioned\, open-air street fair with antiques and collectibles\, crafts\, produce\, and food vendors.  Be sure to wear your Red\, White & Blue!  Bands playing throughout the day!  Enjoy patriotic music in the mix.  Free and open to the public.  Sponsored by Downtown Harlingen merchants.  For more info\, or to reserve a booth\, please call June Ramirez after 10 am at (956) 423-4041.
X-ALT-DESC;FMTTYPE=text/html:Shop for treasures at an old-fashioned\, open-air street fair with antiques and collectibles\, crafts\, produce\, and food vendors.  Be sure to wear your Red\, White & Blue!  Bands playing throughout the day!  Enjoy patriotic music in the mix.  Free and open to the public.  Sponsored by Downtown Harlingen merchants.  For more info\, or to reserve a booth\, please call June Ramirez after 10 am at (956) 423-4041.\n
LOCATION:Downtown Harlingen\, between 4th Street and Commerce
UID:e.1828.2568
SEQUENCE:3
DTSTAMP:20260422T015420Z
URL:https://business.harlingen.com/events/details/jackson-street-market-days-07-03-2010-2568
END:VEVENT

END:VCALENDAR
