BEGIN:VCALENDAR
VERSION:2.0
PRODID:-//ChamberMaster//Event Calendar 2.0//EN
METHOD:PUBLISH
X-PUBLISHED-TTL:P3D
REFRESH-INTERVAL:P3D
CALSCALE:GREGORIAN
BEGIN:VEVENT
DTSTART:20100807T140000Z
DTEND:20100807T200000Z
X-MICROSOFT-CDO-ALLDAYEVENT:FALSE
SUMMARY:Jackson Street Market Days
DESCRIPTION:Shop for treasures at an old-fashioned\, open-air street fair with antiques and collectibles\, crafts\, produce\, and food vendors. Bands playing throughout the day!  Free and open to the public.  Sponsored by Downtown Harlingen merchants.  For more info\, or to reserve a booth\, please call June Ramirez after 10 am at (956) 423-4041.
X-ALT-DESC;FMTTYPE=text/html:Shop for treasures at an old-fashioned\, open-air street fair with antiques and collectibles\, crafts\, produce\, and food vendors. Bands playing throughout the day!  Free and open to the public.  Sponsored by Downtown Harlingen merchants.  For more info\, or to reserve a booth\, please call June Ramirez after 10 am at (956) 423-4041.\n
LOCATION:Downtown Harlingen\, between 4th Street and Commerce
UID:e.1828.2623
SEQUENCE:3
DTSTAMP:20260422T015010Z
URL:https://business.harlingen.com/events/details/jackson-street-market-days-08-07-2010-2623
END:VEVENT

END:VCALENDAR
