BEGIN:VCALENDAR
VERSION:2.0
PRODID:-//ChamberMaster//Event Calendar 2.0//EN
METHOD:PUBLISH
X-PUBLISHED-TTL:P3D
REFRESH-INTERVAL:P3D
CALSCALE:GREGORIAN
BEGIN:VEVENT
DTSTART:20100904T140000Z
DTEND:20100904T200000Z
X-MICROSOFT-CDO-ALLDAYEVENT:FALSE
SUMMARY:Jackson Street Market Days
DESCRIPTION:Shop for treasures at an old-fashioned\, open-air street fair with antiques and collectibles\, crafts\, produce\, and food vendors.  Live music too!  Free and open to the public.  Sponsored by Downtown Harlingen merchants.  For more info or to reserve booth space\, please call June Ramirez after 10 AM at (956) 423-4041.
X-ALT-DESC;FMTTYPE=text/html:Shop for treasures at an old-fashioned\, open-air street fair with antiques and collectibles\, crafts\, produce\, and food vendors.  Live music too!  Free and open to the public.  Sponsored by Downtown Harlingen merchants.  For more info or to reserve booth space\, please call June Ramirez after 10 AM at (956) 423-4041.\n
LOCATION:On Jackson Street in Downtown Harlingen\, between 4th and Commerce
UID:e.1828.2732
SEQUENCE:3
DTSTAMP:20260421T223148Z
URL:https://business.harlingen.com/events/details/jackson-street-market-days-09-04-2010-2732
END:VEVENT

END:VCALENDAR
