BEGIN:VCALENDAR
VERSION:2.0
PRODID:-//ChamberMaster//Event Calendar 2.0//EN
METHOD:PUBLISH
X-PUBLISHED-TTL:P3D
REFRESH-INTERVAL:P3D
CALSCALE:GREGORIAN
BEGIN:VEVENT
DTSTART:20111001T140000Z
DTEND:20111001T200000Z
X-MICROSOFT-CDO-ALLDAYEVENT:FALSE
SUMMARY:Jackson Street Market Days
DESCRIPTION:Shop for treasures at an old-fashioned\, open-air street fair with antiques and collectibles\, crafts\, produce\, and food vendors. Live Bands! Free and open to the public.  For more info\, or to reserve a booth\, please call June Ramirez after 10 am at (956) 423-4041. Downtown Harlingen on Jackson between 4th Street and Commerce.
X-ALT-DESC;FMTTYPE=text/html:Shop for treasures at an old-fashioned\, open-air street fair with antiques and collectibles\, crafts\, produce\, and food vendors. Live Bands! Free and open to the public.  For more info\, or to reserve a booth\, please call June Ramirez after 10 am at (956) 423-4041. Downtown Harlingen on Jackson between 4th Street and Commerce. \n
LOCATION:
UID:e.1828.2973
SEQUENCE:3
DTSTAMP:20260421T021252Z
URL:https://business.harlingen.com/events/details/jackson-street-market-days-10-01-2011-2973
END:VEVENT

END:VCALENDAR
