BEGIN:VCALENDAR
VERSION:2.0
PRODID:-//ChamberMaster//Event Calendar 2.0//EN
METHOD:PUBLISH
X-PUBLISHED-TTL:P3D
REFRESH-INTERVAL:P3D
CALSCALE:GREGORIAN
BEGIN:VEVENT
DTSTART:20091003T140000Z
DTEND:20091003T140000Z
X-MICROSOFT-CDO-ALLDAYEVENT:FALSE
SUMMARY:Jackson Street Market Days
DESCRIPTION:Shop for treasures at Jackson Street Market Days\, an old-fashioned\, open-air market featuring booths with crafts\, collectibles\, plants\, and fresh produce\, plus live music and food. Market Days is held along Jackson Street between 4th and Commerce\, from 9 a.m. to 4 p.m. and is sponsored by Downtown Merchants. Free & open to the public.  For information\, or to reserve booth space\, please contact June Ramirez at (956) 423-4041.
X-ALT-DESC;FMTTYPE=text/html:Shop for treasures at Jackson Street Market Days\, an old-fashioned\, open-air market featuring booths with crafts\, collectibles\, plants\, and fresh produce\, plus live music and food. Market Days is held along Jackson Street between 4th and Commerce\, from 9 a.m. to 4 p.m. and is sponsored by Downtown Merchants. Free & open to the public.  For information\, or to reserve booth space\, please contact June Ramirez at (956) 423-4041.\n\n\n
LOCATION:Jackson Street
UID:e.1828.1695
SEQUENCE:3
DTSTAMP:20260422T112008Z
URL:https://business.harlingen.com/events/details/jackson-street-market-days-10-03-2009-1695
END:VEVENT

END:VCALENDAR
