BEGIN:VCALENDAR
VERSION:2.0
PRODID:-//ChamberMaster//Event Calendar 2.0//EN
METHOD:PUBLISH
X-PUBLISHED-TTL:P3D
REFRESH-INTERVAL:P3D
CALSCALE:GREGORIAN
BEGIN:VEVENT
DTSTART:20130207T160000Z
DTEND:20130207T160000Z
X-MICROSOFT-CDO-ALLDAYEVENT:FALSE
SUMMARY:Jammin' on Jackson St. with Vance Greek & Friends
DESCRIPTION:Come enjoy free live music inside this new facility\, a model railroad clubhouse and family event center on the corner of 1st and Jackson in Downtown Harlingen.  Vance Greek and a variety of local musicians will participate. The music will be mostly country\, folk\, bluegrass\, and gospel.  There will be three shows\, beginning at 10 a.m.\, 11 a.m\, and 1 p.m.  The sessions are free and open to the public on a first-come\, first-served basis\, with the facility cleared after each show.  Attendees also will receive discount coupons for Downtown shops and restaurants.  New musicians are welcome to bring with their instruments and play.
X-ALT-DESC;FMTTYPE=text/html:Come enjoy free live music inside this new facility\, a model railroad clubhouse and family event center on the corner of 1st and Jackson in Downtown Harlingen.  Vance Greek and a variety of local musicians will participate. The music will be mostly country\, folk\, bluegrass\, and gospel.  There will be three shows\, beginning at 10 a.m.\, 11 a.m\, and 1 p.m.  The sessions are free and open to the public on a first-come\, first-served basis\, with the facility cleared after each show.  Attendees also will receive discount coupons for Downtown shops and restaurants.  New musicians are welcome to bring with their instruments and play. 
LOCATION:
UID:e.1828.4217
SEQUENCE:3
DTSTAMP:20260420T084354Z
URL:https://business.harlingen.com/events/details/jammin-on-jackson-st-with-vance-greek-friends-02-07-2013-4217
END:VEVENT

END:VCALENDAR
