BEGIN:VCALENDAR
VERSION:2.0
PRODID:-//ChamberMaster//Event Calendar 2.0//EN
METHOD:PUBLISH
X-PUBLISHED-TTL:P3D
REFRESH-INTERVAL:P3D
CALSCALE:GREGORIAN
BEGIN:VEVENT
DTSTART;VALUE=DATE:20121025
DTEND;VALUE=DATE:20121026
TRANSP:TRANSPARENT
X-MICROSOFT-CDO-ALLDAYEVENT:TRUE
SUMMARY:Jammin' on Jackson Street with Vance Greek & Friends
DESCRIPTION:Come enjoy free live music in this new facility\, a model railroad clubhouse and family event center at the corner of 1st and Jackson in Downtown Harlingen.  Well-known musician Vance Greek will host the jam sessions\, in which a variety of local musicians will participate.  It is anticipated that the music will be mostly country\, folk\, bluegrass\, and gospel. \n\n Three 30-minute shows are planned\, beginning at 10 a.m.\, 11:00 a.m\, and 1:00 p.m.  The sessions are free and open to the public on a first-come\, first-served basis\, with the facility cleared after each show.  Attendees also will receive discount coupons for Downtown restaurants\, shops\, and service businesses. \n\nFor more information\, call the Harlingen Downtown office\, 216-4910.
X-ALT-DESC;FMTTYPE=text/html:Come enjoy free live music in this new facility\, a model railroad clubhouse and family event center at the corner of 1st and Jackson in Downtown Harlingen.  Well-known musician Vance Greek will host the jam sessions\, in which a variety of local musicians will participate.  It is anticipated that the music will be mostly country\, folk\, bluegrass\, and gospel. \n\n Three 30-minute shows are planned\, beginning at 10 a.m.\, 11:00 a.m\, and 1:00 p.m.  The sessions are free and open to the public on a first-come\, first-served basis\, with the facility cleared after each show.  Attendees also will receive discount coupons for Downtown restaurants\, shops\, and service businesses. \n\nFor more information\, call the Harlingen Downtown office\, 216-4910.\n
LOCATION:(plenty of free parking in the Public Lot behind building)
UID:e.1828.4026
SEQUENCE:3
DTSTAMP:20260420T124616Z
URL:https://business.harlingen.com/events/details/jammin-on-jackson-street-with-vance-greek-friends-10-25-2012-4026
END:VEVENT

END:VCALENDAR
