BEGIN:VCALENDAR
VERSION:2.0
PRODID:-//ChamberMaster//Event Calendar 2.0//EN
METHOD:PUBLISH
X-PUBLISHED-TTL:P3D
REFRESH-INTERVAL:P3D
CALSCALE:GREGORIAN
BEGIN:VEVENT
DTSTART;VALUE=DATE:20121129
DTEND;VALUE=DATE:20121130
TRANSP:TRANSPARENT
X-MICROSOFT-CDO-ALLDAYEVENT:TRUE
SUMMARY:Jammin' on Jackson Street with Vance Greek & Friends
DESCRIPTION:Jammin' on Jackson Street with Vance Greek & Friends\nThursday\, November 29\, 2012\n10:00 a.m.\, 11:00 a.m.\, 1:00 p.m.\n101 E. Jackson\, Harlingen\nThe Railroad Crossing\n(plenty of free parking in the Public Lot behind the building)\nCome enjoy free live music inside this new facility\, a model railroad clubhouse and the family event center on the corner of 1st and Jackson in Downtown Harlingen.  Vance Greek and a variety of local musicians will participate.  The music will be mostly country\, folk\, bluegrass\, and gospel.  There will be three shows\, beginning at 10:00 a.m.\, 11:00 a.m. and 1:00 p.m.  the sessions are free and open to the public on a first-come\, first-served basis\, with the facility cleared after each show.  Attendees will receive discount coupons for Downtown shops and restaurants.  New musicians are welcome to bring their instruments with them and play.  For more information call the Harlingen Downtown office at (956) 216-4910.
X-ALT-DESC;FMTTYPE=text/html:Jammin' on Jackson Street with Vance Greek & Friends\nThursday\, November 29\, 2012\n10:00 a.m.\, 11:00 a.m.\, 1:00 p.m.\n101 E. Jackson\, Harlingen\nThe Railroad Crossing\n(plenty of free parking in the Public Lot behind the building)\nCome enjoy free live music inside this new facility\, a model railroad clubhouse and the family event center on the corner of 1st and Jackson in Downtown Harlingen.  Vance Greek and a variety of local musicians will participate.  The music will be mostly country\, folk\, bluegrass\, and gospel.  There will be three shows\, beginning at 10:00 a.m.\, 11:00 a.m. and 1:00 p.m.  the sessions are free and open to the public on a first-come\, first-served basis\, with the facility cleared after each show.  Attendees will receive discount coupons for Downtown shops and restaurants.  New musicians are welcome to bring their instruments with them and play.  For more information call the Harlingen Downtown office at (956) 216-4910.
LOCATION:
UID:e.1828.4154
SEQUENCE:3
DTSTAMP:20260420T090044Z
URL:https://business.harlingen.com/events/details/jammin-on-jackson-street-with-vance-greek-friends-11-29-2012-4154
END:VEVENT

END:VCALENDAR
