BEGIN:VCALENDAR
VERSION:2.0
PRODID:-//ChamberMaster//Event Calendar 2.0//EN
METHOD:PUBLISH
X-PUBLISHED-TTL:P3D
REFRESH-INTERVAL:P3D
CALSCALE:GREGORIAN
BEGIN:VEVENT
DTSTART:20101204T010000Z
DTEND:20101204T010000Z
X-MICROSOFT-CDO-ALLDAYEVENT:FALSE
SUMMARY:Jaycees Annual Christmas Parade
DESCRIPTION:Start off the holiday season with the Jaycees Christmas parade in downtown Harlingen.  You might even get a visit from Santa Claus himself.  It's a great way to celebrate the season.  If you would like to participate\, please visit the new Jaycees website www.theharlingenjaycees.com for rules & entry forms.  Parade scheduled for Friday\, December 3rd at 7:00 pm.  For more information please call Diana Bustamante @ 956-639-1777
X-ALT-DESC;FMTTYPE=text/html:Start off the holiday season with the Jaycees Christmas parade in downtown Harlingen.  You might even get a visit from Santa Claus himself.  It's a great way to celebrate the season.  If you would like to participate\, please visit the new Jaycees website www.theharlingenjaycees.com for rules & entry forms.  Parade scheduled for Friday\, December 3rd at 7:00 pm.  For more information please call Diana Bustamante @ 956-639-1777\n
LOCATION:
UID:e.1828.2687
SEQUENCE:3
DTSTAMP:20260421T171349Z
URL:https://business.harlingen.com/events/details/jaycees-annual-christmas-parade-12-03-2010-2687
END:VEVENT

END:VCALENDAR
