BEGIN:VCALENDAR
VERSION:2.0
PRODID:-//ChamberMaster//Event Calendar 2.0//EN
METHOD:PUBLISH
X-PUBLISHED-TTL:P3D
REFRESH-INTERVAL:P3D
CALSCALE:GREGORIAN
BEGIN:VEVENT
DTSTART:20120208T150000Z
DTEND:20120208T150000Z
X-MICROSOFT-CDO-ALLDAYEVENT:FALSE
SUMMARY:Job Fair
DESCRIPTION:Full Time Positions in Financial Industry. First Manhattan is hiring full time financial positions and holding a job fair February 8th. Please contact Kathy Payton for information at kathy@fmcredit.com or 956-245-3433.
X-ALT-DESC;FMTTYPE=text/html: Full Time Positions in Financial Industry. First Manhattan is hiring full time financial positions and holding a job fair February 8th. Please contact Kathy Payton for information at kathy@fmcredit.com or 956-245-3433.  \n\n
LOCATION:
UID:e.1828.3414
SEQUENCE:3
DTSTAMP:20260420T195407Z
URL:https://business.harlingen.com/events/details/job-fair-02-08-2012-3414
END:VEVENT

END:VCALENDAR
