BEGIN:VCALENDAR
VERSION:2.0
PRODID:-//ChamberMaster//Event Calendar 2.0//EN
METHOD:PUBLISH
X-PUBLISHED-TTL:P3D
REFRESH-INTERVAL:P3D
CALSCALE:GREGORIAN
BEGIN:VEVENT
DTSTART:20100303T160000Z
DTEND:20100303T200000Z
X-MICROSOFT-CDO-ALLDAYEVENT:FALSE
SUMMARY:Job Fair Spring 2010
DESCRIPTION:The Career Services Department at the University of Texas at Brownsville and Texas Southmost College would like to cordially invite your organization to participate in the ''Spring 20210 Job Fair (For All Majors).'' \nThis particular fair is open to all UTB students and our community.  We are looking to make this an exceptional event for our students\, as well as successful companies like you.  By participating in this event\, you will have the opportunity to network\, meet potential employees\, as well as conduct on-site interviews.   Many career related fields are showcased and highlighted… Those in the past have included\, but were not limited to\, Sales\, Retail\, Finance\, Administration\, Accounting\, Information Systems\, Law Enforcement\, Marketing\, Engineering\, Computer Information Science and many more.  Should you have any concerns or questions\, please contact us at (956) 882-5627.
X-ALT-DESC;FMTTYPE=text/html:The Career Services Department at the University of Texas at Brownsville and Texas Southmost College would like to cordially invite your organization to participate in the ''Spring 20210 Job Fair (For All Majors).'' \nThis particular fair is open to all UTB students and our community.  We are looking to make this an exceptional event for our students\, as well as successful companies like you.  By participating in this event\, you will have the opportunity to network\, meet potential employees\, as well as conduct on-site interviews.   Many career related fields are showcased and highlighted… Those in the past have included\, but were not limited to\, Sales\, Retail\, Finance\, Administration\, Accounting\, Information Systems\, Law Enforcement\, Marketing\, Engineering\, Computer Information Science and many more.  Should you have any concerns or questions\, please contact us at (956) 882-5627.\n
LOCATION:Wednesday\, March 3\, 2010 from 10:00 am – 2:00 pm at the Jacob Brown Auditorium. All vendors will be allowed to come in and set up at 8:00am.
UID:e.1828.2344
SEQUENCE:3
DTSTAMP:20260422T093546Z
URL:https://business.harlingen.com/events/details/job-fair-spring-2010-03-03-2010-2344
END:VEVENT

END:VCALENDAR
