BEGIN:VCALENDAR
VERSION:2.0
PRODID:-//ChamberMaster//Event Calendar 2.0//EN
METHOD:PUBLISH
X-PUBLISHED-TTL:P3D
REFRESH-INTERVAL:P3D
CALSCALE:GREGORIAN
BEGIN:VEVENT
DTSTART:20100817T140000Z
DTEND:20100817T150000Z
X-MICROSOFT-CDO-ALLDAYEVENT:FALSE
SUMMARY:Jobs and Education for Texans (JET) Fund & Governmental Transparency presentation by Texas Comptroller Susan Combs
DESCRIPTION:Save the Date!  Join us for a Jobs and Education for Texans (JET) Fund & Governmental Transparency\npresentation by Texas Comptroller Susan Combs August 17\, 9:00–10:00 a.m. at Texas State Technical College\n1902 North Loop 499\, LRC Room 105.  A question and answer session will follow the program.  For More Information Contact: Russell Gallahan at russell.gallahan@cpa.state.tx.us or call (800) 531-5441 ext. 36073.
X-ALT-DESC;FMTTYPE=text/html:Save the Date!  Join us for a Jobs and Education for Texans (JET) Fund & Governmental Transparency\npresentation by Texas Comptroller Susan Combs August 17\, 9:00–10:00 a.m. at Texas State Technical College\n1902 North Loop 499\, LRC Room 105.  A question and answer session will follow the program.  For More Information Contact: Russell Gallahan at russell.gallahan@cpa.state.tx.us or call (800) 531-5441 ext. 36073.
LOCATION:
UID:e.1828.2608
SEQUENCE:3
DTSTAMP:20260422T015613Z
URL:https://business.harlingen.com/events/details/jobs-and-education-for-texans-jet-fund-governmental-transparency-presentation-by-texas-comptroller-susan-combs-08-17-2010-2608
END:VEVENT

END:VCALENDAR
