BEGIN:VCALENDAR
VERSION:2.0
PRODID:-//ChamberMaster//Event Calendar 2.0//EN
METHOD:PUBLISH
X-PUBLISHED-TTL:P3D
REFRESH-INTERVAL:P3D
CALSCALE:GREGORIAN
BEGIN:VEVENT
DTSTART:20110607T150000Z
DTEND:20110607T150000Z
X-MICROSOFT-CDO-ALLDAYEVENT:FALSE
SUMMARY:Joe's Master Service Center
DESCRIPTION:Join us in honoring Joe's Master Service Center for their 9 years in business offering engine oil change service\, tire rotation & balance\, fuel injection systems\, alignments\, A/C\, and all automotive needs. Come hear all about the services and great deals they offer and enjoy coffee\, juice\, and donuts!
X-ALT-DESC;FMTTYPE=text/html:Join us in honoring Joe's Master Service Center for their 9 years in business offering engine oil change service\, tire rotation & balance\, fuel injection systems\, alignments\, A/C\, and all automotive needs. Come hear all about the services and great deals they offer and enjoy coffee\, juice\, and donuts!  \n
LOCATION:
UID:e.1828.3066
SEQUENCE:3
DTSTAMP:20260421T080948Z
URL:https://business.harlingen.com/events/details/joe-s-master-service-center-06-07-2011-3066
END:VEVENT

END:VCALENDAR
