BEGIN:VCALENDAR
VERSION:2.0
PRODID:-//ChamberMaster//Event Calendar 2.0//EN
METHOD:PUBLISH
X-PUBLISHED-TTL:P3D
REFRESH-INTERVAL:P3D
CALSCALE:GREGORIAN
BEGIN:VEVENT
DTSTART;VALUE=DATE:20120627
DTEND;VALUE=DATE:20120628
TRANSP:TRANSPARENT
X-MICROSOFT-CDO-ALLDAYEVENT:TRUE
SUMMARY:Join Gina Carmichael\, RN\, "In Search of Health"\, a Prevention+ Seminar
DESCRIPTION:Come learn about healthier living!  After years of watching lifestyles repeatedly send people to the hospital\, Gina chose to work with people on preventing these diseases instead.  For more information\, call:  Lana at (956) 367-2802 or Robin at (956) 792-7743. \n\n12:00 p.m. - Lunch & Learn:  $10\n6:00 p.m. - Munch & Learn:  Free
X-ALT-DESC;FMTTYPE=text/html:Come learn about healthier living!  After years of watching lifestyles repeatedly send people to the hospital\, Gina chose to work with people on preventing these diseases instead.  For more information\, call:  Lana at (956) 367-2802 or Robin at (956) 792-7743. \n\n12:00 p.m. - Lunch & Learn:  $10\n6:00 p.m. - Munch & Learn:  Free   
LOCATION:
UID:e.1828.3859
SEQUENCE:3
DTSTAMP:20260420T133107Z
URL:https://business.harlingen.com/events/details/join-gina-carmichael-rn-in-search-of-health-a-prevention-seminar-06-27-2012-3859
END:VEVENT

END:VCALENDAR
