BEGIN:VCALENDAR
VERSION:2.0
PRODID:-//ChamberMaster//Event Calendar 2.0//EN
METHOD:PUBLISH
X-PUBLISHED-TTL:P3D
REFRESH-INTERVAL:P3D
CALSCALE:GREGORIAN
BEGIN:VEVENT
DTSTART:20120908T140000Z
DTEND:20120908T180000Z
X-MICROSOFT-CDO-ALLDAYEVENT:FALSE
SUMMARY:Join the Girl Scouts of Greater South Texas Council 100 Years
DESCRIPTION:The Greater South Texas council celebrates 100 years with an open house on September 8th.  Join the Girl on September 8th from 9:00 a.m. to 1:00 p.m. for an open house located at 202 E. Madison Avenue and learn more about this 100 year old organization which serves more than three million girls nationwide.  \n\nThe Harlingen Fire Department will be on hand with a fire truck\, the Harlingen Police Department will have a police vehicle\, the Coast Guard with a boat\, and the Border Patrol with a canine and more.\n\nThe Girl Scouts of Greater South Texas serves more than 4\,000 girls in the greater Harlingen area.  Through Girl Scouts\, these young women learn how to develop a strong sense of self\, gain practical life skills\, build healthy relationships\, and are resourceful problem solvers.\n\nFor questions\, please call the Harlingen office at (956) 425-2388
X-ALT-DESC;FMTTYPE=text/html:The Greater South Texas council celebrates 100 years with an open house on September 8th.  Join the Girl on September 8th from 9:00 a.m. to 1:00 p.m. for an open house located at 202 E. Madison Avenue and learn more about this 100 year old organization which serves more than three million girls nationwide.  \n\nThe Harlingen Fire Department will be on hand with a fire truck\, the Harlingen Police Department will have a police vehicle\, the Coast Guard with a boat\, and the Border Patrol with a canine and more.\n\nThe Girl Scouts of Greater South Texas serves more than 4\,000 girls in the greater Harlingen area.  Through Girl Scouts\, these young women learn how to develop a strong sense of self\, gain practical life skills\, build healthy relationships\, and are resourceful problem solvers.\n\nFor questions\, please call the Harlingen office at (956) 425-2388\n
LOCATION:
UID:e.1828.3950
SEQUENCE:3
DTSTAMP:20260420T103236Z
URL:https://business.harlingen.com/events/details/join-the-girl-scouts-of-greater-south-texas-council-100-years-09-08-2012-3950
END:VEVENT

END:VCALENDAR
