BEGIN:VCALENDAR
VERSION:2.0
PRODID:-//ChamberMaster//Event Calendar 2.0//EN
METHOD:PUBLISH
X-PUBLISHED-TTL:P3D
REFRESH-INTERVAL:P3D
CALSCALE:GREGORIAN
BEGIN:VEVENT
DTSTART:20120510T223000Z
DTEND:20120510T223000Z
X-MICROSOFT-CDO-ALLDAYEVENT:FALSE
SUMMARY:Joint Workshop/Public Forum
DESCRIPTION:Mayor Chris Boswell has scheduled a Joint Workshop/Public Forum and is inviting the community to participate. The purpose of the workshop is to discuss ideas and recommendations to improve the appearance of the community. The workshop is also intended to be a public forum to solicit input from the the public.
X-ALT-DESC;FMTTYPE=text/html:Mayor Chris Boswell has scheduled a Joint Workshop/Public Forum and is inviting the community to participate. The purpose of the workshop is to discuss ideas and recommendations to improve the appearance of the community. The workshop is also intended to be a public forum to solicit input from the the public.\n
LOCATION:
UID:e.1828.3654
SEQUENCE:3
DTSTAMP:20260420T150418Z
URL:https://business.harlingen.com/events/details/joint-workshop-public-forum-05-10-2012-3654
END:VEVENT

END:VCALENDAR
