BEGIN:VCALENDAR
VERSION:2.0
PRODID:-//ChamberMaster//Event Calendar 2.0//EN
METHOD:PUBLISH
X-PUBLISHED-TTL:P3D
REFRESH-INTERVAL:P3D
CALSCALE:GREGORIAN
BEGIN:VEVENT
DTSTART;VALUE=DATE:20100226
DTEND;VALUE=DATE:20100301
TRANSP:TRANSPARENT
X-MICROSOFT-CDO-ALLDAYEVENT:TRUE
SUMMARY:Joseph & the Amazing Technicolor DreamCoat
DESCRIPTION:Purchase tickets online at www.hpatonline.net or at the box office.
X-ALT-DESC;FMTTYPE=text/html:Purchase tickets online at www.hpatonline.net or at the box office.  
LOCATION:
UID:e.1828.2286
SEQUENCE:3
DTSTAMP:20260422T093707Z
URL:https://business.harlingen.com/events/details/joseph-the-amazing-technicolor-dreamcoat-02-26-2010-2286
END:VEVENT

END:VCALENDAR
