BEGIN:VCALENDAR
VERSION:2.0
PRODID:-//ChamberMaster//Event Calendar 2.0//EN
METHOD:PUBLISH
X-PUBLISHED-TTL:P3D
REFRESH-INTERVAL:P3D
CALSCALE:GREGORIAN
BEGIN:VEVENT
DTSTART:20120704T210000Z
DTEND:20120705T033000Z
X-MICROSOFT-CDO-ALLDAYEVENT:FALSE
SUMMARY:July 4th Independence Day Festival
DESCRIPTION:4th of July Music Festival. Independence Day celebration fun for all. Place: Fair Park- Harlingen\, Family Activities\, Food\, Inflatables\, Face Painting\, Watermelon\, Live Entertainment. Live Music\, Jimmy Gonzalez Y Groupo Mazz\, Sweet Satin & The Variety Band. Patriotic Parade: Dowtown Harlingen begins\n4PM on Jackson Street\, Fajita COOK-Off\, during the Music Festival at Fair Park. Contact RGV Jaycees for more information at www.rgvjaycees.com Brought to you by RGV Jaycees and City of Harlingen.
X-ALT-DESC;FMTTYPE=text/html:4th of July Music Festival. Independence Day celebration fun for all. Place: Fair Park- Harlingen\, Family Activities\, Food\, Inflatables\, Face Painting\, Watermelon\, Live Entertainment. Live Music\, Jimmy Gonzalez Y Groupo Mazz\, Sweet Satin & The Variety Band. Patriotic Parade: Dowtown Harlingen begins\n4PM on Jackson Street\, Fajita COOK-Off\, during the Music Festival at Fair Park. Contact RGV Jaycees for more information at www.rgvjaycees.com Brought to you by RGV Jaycees and City of Harlingen. 
LOCATION:
UID:e.1828.3750
SEQUENCE:3
DTSTAMP:20260420T114607Z
URL:https://business.harlingen.com/events/details/july-4th-independence-day-festival-07-04-2012-3750
END:VEVENT

END:VCALENDAR
