BEGIN:VCALENDAR
VERSION:2.0
PRODID:-//ChamberMaster//Event Calendar 2.0//EN
METHOD:PUBLISH
X-PUBLISHED-TTL:P3D
REFRESH-INTERVAL:P3D
CALSCALE:GREGORIAN
BEGIN:VEVENT
DTSTART:20120109T233000Z
DTEND:20120110T010000Z
X-MICROSOFT-CDO-ALLDAYEVENT:FALSE
SUMMARY:Junior League of Harlingen
DESCRIPTION:Join us in celebrating Junior League of Harlingen's grand opening of their new office with a ribbon cutting celebration. Refreshments\, light snacks\, and soft drinks will be served.
X-ALT-DESC;FMTTYPE=text/html:Join us in celebrating Junior League of Harlingen's grand opening of their new office with a ribbon cutting celebration. Refreshments\, light snacks\, and soft drinks will be served.   \n
LOCATION:
UID:e.1828.3339
SEQUENCE:3
DTSTAMP:20260420T213037Z
URL:https://business.harlingen.com/events/details/junior-league-of-harlingen-01-09-2012-3339
END:VEVENT

END:VCALENDAR
