BEGIN:VCALENDAR
VERSION:2.0
PRODID:-//ChamberMaster//Event Calendar 2.0//EN
METHOD:PUBLISH
X-PUBLISHED-TTL:P3D
REFRESH-INTERVAL:P3D
CALSCALE:GREGORIAN
BEGIN:VEVENT
DTSTART;VALUE=DATE:20100423
DTEND;VALUE=DATE:20100425
TRANSP:TRANSPARENT
X-MICROSOFT-CDO-ALLDAYEVENT:TRUE
SUMMARY:Junior League of Harlingen 5th Annual Senoritas on the Bay Charity Fishing Tournament
DESCRIPTION:5th Annual Charity Fishing Tournament Benefitting the Junior League of Harlingen\, Inc. Calcutta Auction.  Raffle.  Door Prizes.  Live Auction.  Tons of  fun.  Fish pots available.  April 23\, 2010 Registration & Kick Off Party.  April 24\, 2010 Tournament Weigh-in at Parrot Eyes at South Padre Island\, TX.  Entry fee after March 2nd is $100.00.  Entry fees are tax deductable! Cash Prizes for 1st\, 2nd and 3rd Place Overall stringer.  Monies to benefit local charities!  For more information call (956)241-9401.
X-ALT-DESC;FMTTYPE=text/html:5th Annual Charity Fishing Tournament Benefitting the Junior League of Harlingen\, Inc. Calcutta Auction.  Raffle.  Door Prizes.  Live Auction.  Tons of  fun.  Fish pots available.  April 23\, 2010 Registration & Kick Off Party.  April 24\, 2010 Tournament Weigh-in at Parrot Eyes at South Padre Island\, TX.  Entry fee after March 2nd is $100.00.  Entry fees are tax deductable! Cash Prizes for 1st\, 2nd and 3rd Place Overall stringer.  Monies to benefit local charities!  For more information call (956)241-9401.\n
LOCATION:
UID:e.1828.2438
SEQUENCE:3
DTSTAMP:20260422T081421Z
URL:https://business.harlingen.com/events/details/junior-league-of-harlingen-5th-annual-senoritas-on-the-bay-charity-fishing-tournament-04-23-2010-2438
END:VEVENT

END:VCALENDAR
