BEGIN:VCALENDAR
VERSION:2.0
PRODID:-//ChamberMaster//Event Calendar 2.0//EN
METHOD:PUBLISH
X-PUBLISHED-TTL:P3D
REFRESH-INTERVAL:P3D
CALSCALE:GREGORIAN
BEGIN:VEVENT
DTSTART:20091115T010000Z
DTEND:20091115T050000Z
X-MICROSOFT-CDO-ALLDAYEVENT:FALSE
SUMMARY:Junior League of Harlingen Casino Night in Old Havana
DESCRIPTION:Mark your calendars! Junior League of Harlingen presents Casino Night in Old Havana on Saturday November 14\, 2009 at A Catered Affair on Jackson Square located at 301 E. Jackson in Downtown Harlingen.  Guests will enjoy an evening of networking\, chances to win prizes\, complimentary non-alcoholic beverages and hors d'ouevres.   Ticket price of $50 per person includes casino play money and 2 drink coupons for beer\, wine or signature drink.  ATTIRE TROPICAL COCKTAIL.  For tickets & more information\, please call 956-225-3419 or send e-mail to: casinonightinoldhavana@gmail.com
X-ALT-DESC;FMTTYPE=text/html:Mark your calendars! Junior League of Harlingen presents Casino Night in Old Havana on Saturday November 14\, 2009 at A Catered Affair on Jackson Square located at 301 E. Jackson in Downtown Harlingen.  Guests will enjoy an evening of networking\, chances to win prizes\, complimentary non-alcoholic beverages and hors d'ouevres.   Ticket price of $50 per person includes casino play money and 2 drink coupons for beer\, wine or signature drink.  ATTIRE TROPICAL COCKTAIL.  For tickets & more information\, please call 956-225-3419 or send e-mail to: casinonightinoldhavana@gmail.com\n\n
LOCATION:
UID:e.1828.2029
SEQUENCE:3
DTSTAMP:20260422T130841Z
URL:https://business.harlingen.com/events/details/junior-league-of-harlingen-casino-night-in-old-havana-11-14-2009-2029
END:VEVENT

END:VCALENDAR
