BEGIN:VCALENDAR
VERSION:2.0
PRODID:-//ChamberMaster//Event Calendar 2.0//EN
METHOD:PUBLISH
X-PUBLISHED-TTL:P3D
REFRESH-INTERVAL:P3D
CALSCALE:GREGORIAN
BEGIN:VEVENT
DTSTART:20111031T213000Z
DTEND:20111031T220000Z
X-MICROSOFT-CDO-ALLDAYEVENT:FALSE
SUMMARY:KB Foundation of Texas Rec Center Grand Opening
DESCRIPTION:You might plan to stay later for the festivities. Start Time: 5:30pm - 8:00pm\nCome enjoy our latest addition to HOC!!! A place for our youth to relax and educate themselves. There will be a Spooky Walk-through\, lots of treats & games for all ages!!! (While supplies last) our KB Rec Center will be hosting a pool table\, ice hockey table\, foo's ball table\, gaming systems\, full basket ball court\, tutoring\, computer lab with internet access\, and a safe environment for the youth. (Ages 12-17\, contract will be required) Costume Contest will be held at 7:00pm\nAll children must be accompanied by an adult or legal guardian.
X-ALT-DESC;FMTTYPE=text/html:You might plan to stay later for the festivities. Start Time: 5:30pm - 8:00pm\nCome enjoy our latest addition to HOC!!! A place for our youth to relax and educate themselves. There will be a Spooky Walk-through\, lots of treats & games for all ages!!! (While supplies last) our KB Rec Center will be hosting a pool table\, ice hockey table\, foo's ball table\, gaming systems\, full basket ball court\, tutoring\, computer lab with internet access\, and a safe environment for the youth. (Ages 12-17\, contract will be required) Costume Contest will be held at 7:00pm\nAll children must be accompanied by an adult or legal guardian.
LOCATION:
UID:e.1828.3223
SEQUENCE:3
DTSTAMP:20260421T021656Z
URL:https://business.harlingen.com/events/details/kb-foundation-of-texas-rec-center-grand-opening-10-31-2011-3223
END:VEVENT

END:VCALENDAR
