BEGIN:VCALENDAR
VERSION:2.0
PRODID:-//ChamberMaster//Event Calendar 2.0//EN
METHOD:PUBLISH
X-PUBLISHED-TTL:P3D
REFRESH-INTERVAL:P3D
CALSCALE:GREGORIAN
BEGIN:VEVENT
DTSTART;VALUE=DATE:20091110
DTEND;VALUE=DATE:20091112
TRANSP:TRANSPARENT
X-MICROSOFT-CDO-ALLDAYEVENT:TRUE
SUMMARY:Keep Texas Beautiful Training
DESCRIPTION:Wednesday\, November 10: \n•         Introduction to KTB & Guide to Affiliate Coordination (9:00 am - 12:00 pm)\n•       Welcome and Introduction \n•       Who and what is Keep Texas Beautiful?\n•       Keep America Beautiful and the Behavior-Based Approach\n•       Programs overview\n•       Organizational Check-up\n•       Fundraising\n \n12:00-1:00 Lunch will be provided\, courtesy of Harlingen Proud\n \n•         Awards Training (1:00 pm - 4:00 pm)\n?  Tips and tools for planning and organizing award applications\n?  Understanding the judging process\n?  How to organize your community's application\n 4:00 – 6:00pm will be a tour of Harlingen's Beautification and Recycling Efforts for those interested in learning more about Harlingen Proud.\nThursday\, November 11:\n                Fundraising (9:00 am - 12:00 pm)\n?  Raising money – not easy but simple                              \n?  Where to start\n?  Cultivating major givers\n?  Special events\n?  Recognition\n\n \nThe training will be held at:\nHarlingen Public Library – Auditorium\n410 '76 Drive\nHarlingen\, Texas 78550\n \nIf you are new to KTB\, looking for more information or a refresher\, this is the training for you.  Volunteers and board members are encouraged to attend!   Attendance satisfies the training requirement for all KTB Affiliate Recognition levels (Good Standing\, Silver Star\, Gold Star).  All attendees must register. You can download a registration form at:   http://www.ktb.org/get-involved/ktb-trainings.aspx\n\nPlease complete and return the form to by November 5th.  For mroe information\, please contact Mandy Key with Harlingen Proud at 956-216-5302.
X-ALT-DESC;FMTTYPE=text/html:Wednesday\, November 10: \n•         Introduction to KTB & Guide to Affiliate Coordination (9:00 am - 12:00 pm)\n•       Welcome and Introduction \n•       Who and what is Keep Texas Beautiful?\n•       Keep America Beautiful and the Behavior-Based Approach\n•       Programs overview\n•       Organizational Check-up\n•       Fundraising\n \n12:00-1:00 Lunch will be provided\, courtesy of Harlingen Proud\n \n•         Awards Training (1:00 pm - 4:00 pm)\n?  Tips and tools for planning and organizing award applications\n?  Understanding the judging process\n?  How to organize your community's application\n 4:00 – 6:00pm will be a tour of Harlingen's Beautification and Recycling Efforts for those interested in learning more about Harlingen Proud.\nThursday\, November 11:\n                Fundraising (9:00 am - 12:00 pm)\n?  Raising money – not easy but simple                              \n?  Where to start\n?  Cultivating major givers\n?  Special events\n?  Recognition\n\n \nThe training will be held at:\nHarlingen Public Library – Auditorium\n410 '76 Drive\nHarlingen\, Texas 78550\n \nIf you are new to KTB\, looking for more information or a refresher\, this is the training for you.  Volunteers and board members are encouraged to attend!   Attendance satisfies the training requirement for all KTB Affiliate Recognition levels (Good Standing\, Silver Star\, Gold Star).  All attendees must register. You can download a registration form at:   http://www.ktb.org/get-involved/ktb-trainings.aspx\n\nPlease complete and return the form to by November 5th.  For mroe information\, please contact Mandy Key with Harlingen Proud at 956-216-5302.\n\n\n\n
LOCATION:
UID:e.1828.2164
SEQUENCE:3
DTSTAMP:20260422T124827Z
URL:https://business.harlingen.com/events/details/keep-texas-beautiful-training-11-10-2009-2164
END:VEVENT

END:VCALENDAR
