BEGIN:VCALENDAR
VERSION:2.0
PRODID:-//ChamberMaster//Event Calendar 2.0//EN
METHOD:PUBLISH
X-PUBLISHED-TTL:P3D
REFRESH-INTERVAL:P3D
CALSCALE:GREGORIAN
BEGIN:VEVENT
DTSTART:20210415T220000Z
DTEND:20210415T230000Z
X-MICROSOFT-CDO-ALLDAYEVENT:FALSE
SUMMARY:Kid's Craft Night
DESCRIPTION:Join us for Kid's Craft Night Live on Facebook and Instagram each Thursday Night at 5pm. Our Craft Night Kits are available each Monday before\, or until supplies run out. Crafts are recommended for ages 6-12. See you soon!
X-ALT-DESC;FMTTYPE=text/html:Join us for Kid&#39\;s Craft Night Live on Facebook and Instagram each Thursday Night at 5pm. Our Craft Night Kits are available each Monday before\, or until supplies run out. Crafts are recommended for ages 6-12. See you soon!
LOCATION:Chick-fil-A Harlingen 1021 Dixieland Rd\, Harlingen\, TX
UID:e.1828.16299
SEQUENCE:3
DTSTAMP:20260419T225430Z
URL:https://business.harlingen.com/events/details/kid-s-craft-night-16299
END:VEVENT

END:VCALENDAR
