BEGIN:VCALENDAR
VERSION:2.0
PRODID:-//ChamberMaster//Event Calendar 2.0//EN
METHOD:PUBLISH
X-PUBLISHED-TTL:P3D
REFRESH-INTERVAL:P3D
CALSCALE:GREGORIAN
BEGIN:VEVENT
DTSTART:20091024T150000Z
DTEND:20091025T200000Z
X-MICROSOFT-CDO-ALLDAYEVENT:FALSE
SUMMARY:KidFest
DESCRIPTION:On Saturday\, October 24th the KidFest is having a variety of events\n\nAt 10AM Concert by The Brownsville Children's Choir.  Enjoy the sound of uplifting music by sung by vocalists ages 7 to 13.  \n\nFrom 11AM – 3PM Performances by Star Kids Show Infantil including special guests such as Dora the Explorer & Diego\, Transformers\, Madagascar\, Mickey\, Minnie and Goofy.  You can sing\, dance and play with your favorite cartoon characters. Please don't forget your camera!\n\nOn Sunday\, October 25th we will be having another great event\n\n2PM  Piñata Party in Dean Porter Park.  The celebration continues with a goody-filled piñatas!
X-ALT-DESC;FMTTYPE=text/html:On Saturday\, October 24th the KidFest is having a variety of events\n\nAt 10AM Concert by The Brownsville Children's Choir.  Enjoy the sound of uplifting music by sung by vocalists ages 7 to 13.  \n\nFrom 11AM – 3PM Performances by Star Kids Show Infantil including special guests such as Dora the Explorer & Diego\, Transformers\, Madagascar\, Mickey\, Minnie and Goofy.  You can sing\, dance and play with your favorite cartoon characters. Please don't forget your camera!\n\nOn Sunday\, October 25th we will be having another great event\n\n2PM  Piñata Party in Dean Porter Park.  The celebration continues with a goody-filled piñatas!
LOCATION:Children's Museum of Brownsville
UID:e.1828.2161
SEQUENCE:3
DTSTAMP:20260422T111547Z
URL:https://business.harlingen.com/events/details/kidfest-10-24-2009-2161
END:VEVENT

END:VCALENDAR
