BEGIN:VCALENDAR
VERSION:2.0
PRODID:-//ChamberMaster//Event Calendar 2.0//EN
METHOD:PUBLISH
X-PUBLISHED-TTL:P3D
REFRESH-INTERVAL:P3D
CALSCALE:GREGORIAN
BEGIN:VEVENT
DTSTART:20101030T133000Z
DTEND:20101030T133000Z
X-MICROSOFT-CDO-ALLDAYEVENT:FALSE
SUMMARY:Kids' Bicycle Costume Parade
DESCRIPTION:Attention bike riders up to age 12!  Grab your bike and helment\, put on your favorite costume and help "Pedal for Pets."  Prizes for best costumes and a raffle.  Register at Bicycle World in Harlingen or at the Humane Society of Harlingen. Registration fee ($20) benefits the Humane Society of Harlingen.  For more info\, call Katie\, 873-1438.
X-ALT-DESC;FMTTYPE=text/html:Attention bike riders up to age 12!  Grab your bike and helment\, put on your favorite costume and help "Pedal for Pets."  Prizes for best costumes and a raffle.  Register at Bicycle World in Harlingen or at the Humane Society of Harlingen. Registration fee ($20) benefits the Humane Society of Harlingen.  For more info\, call Katie\, 873-1438.\n\n
LOCATION:
UID:e.1828.2822
SEQUENCE:3
DTSTAMP:20260421T222146Z
URL:https://business.harlingen.com/events/details/kids-bicycle-costume-parade-10-30-2010-2822
END:VEVENT

END:VCALENDAR
