BEGIN:VCALENDAR
VERSION:2.0
PRODID:-//ChamberMaster//Event Calendar 2.0//EN
METHOD:PUBLISH
X-PUBLISHED-TTL:P3D
REFRESH-INTERVAL:P3D
CALSCALE:GREGORIAN
BEGIN:VEVENT
DTSTART:20091002T233000Z
DTEND:20091002T050000Z
X-MICROSOFT-CDO-ALLDAYEVENT:FALSE
SUMMARY:Killing of the Crown Mystery Dinner
DESCRIPTION:The Women Among Women Association presents Killing of the Crown Mystery Dinner on October 5th at Casa Rama from 6:30 pm to 12:00 midnight.  $45 for members & $55 for non-members.  Prizes will be awarded.  SEATING IS LIMITED!  For sponsorship information or to RSVP\, please contact Thuy Garcia at 956-490-3791.
X-ALT-DESC;FMTTYPE=text/html:The Women Among Women Association presents Killing of the Crown Mystery Dinner on October 5th at Casa Rama from 6:30 pm to 12:00 midnight.  $45 for members & $55 for non-members.  Prizes will be awarded.  SEATING IS LIMITED!  For sponsorship information or to RSVP\, please contact Thuy Garcia at 956-490-3791.  
LOCATION:
UID:e.1828.2092
SEQUENCE:3
DTSTAMP:20260422T112124Z
URL:https://business.harlingen.com/events/details/killing-of-the-crown-mystery-dinner-10-02-2009-2092
END:VEVENT

END:VCALENDAR
