BEGIN:VCALENDAR
VERSION:2.0
PRODID:-//ChamberMaster//Event Calendar 2.0//EN
METHOD:PUBLISH
X-PUBLISHED-TTL:P3D
REFRESH-INTERVAL:P3D
CALSCALE:GREGORIAN
BEGIN:VEVENT
DTSTART:20091031T170000Z
DTEND:20091031T190000Z
X-MICROSOFT-CDO-ALLDAYEVENT:FALSE
SUMMARY:Kinder Art!
DESCRIPTION:Halloween isn't just filled with spooks and spirits!  Come learn about the history of Halloween!  Participating kids will then make their own version of the Halloween Tree\, which will go on display at the Old City Cemetery Center later in the year.  Kids are encouraged to dress in costume for fun\, frights\, and even prizes!\n\nThe class is $3 for BHA members and $5 for non-members.  Classes are limited to 30 children ages 8 to 13 and registration is required.  Call to reserve your space today!
X-ALT-DESC;FMTTYPE=text/html:Halloween isn't just filled with spooks and spirits!  Come learn about the history of Halloween!  Participating kids will then make their own version of the Halloween Tree\, which will go on display at the Old City Cemetery Center later in the year.  Kids are encouraged to dress in costume for fun\, frights\, and even prizes!\n\nThe class is $3 for BHA members and $5 for non-members.  Classes are limited to 30 children ages 8 to 13 and registration is required.  Call to reserve your space today!
LOCATION:Take US 77/83 to the 6th St exit. The Old City Cemetery Center is half way down on the left hand side. Parking is available on Monroe and in the lot at the corner of 6th and Madison.
UID:e.1828.2109
SEQUENCE:3
DTSTAMP:20260422T111548Z
URL:https://business.harlingen.com/events/details/kinder-art-10-31-2009-2109
END:VEVENT

END:VCALENDAR
